BEGIN:VCALENDAR
VERSION:2.0
PRODID:-//Liga Nova Lima//Calendario de Partida//PT-BR
CALSCALE:GREGORIAN
METHOD:PUBLISH
BEGIN:VEVENT
UID:partida-3023@liganovalima.inovarsite.com.br
DTSTAMP:20260420T031246Z
DTSTART:20260330T130000
DTEND:20260330T150000
SUMMARY:teste - Liga Nova Lima
LOCATION:Estadio Vila Nova
DESCRIPTION:Liga Nova Lima\n\nHorário oficial do evento: 30/03/2026 às 13:00\nLocal: Estadio Vila Nova\n\nMais detalhes da partida:\nhttps://liganovalima.inovarsite.com.br/partidas/teste-2/
STATUS:CONFIRMED
TRANSP:OPAQUE
END:VEVENT
END:VCALENDAR