BEGIN:VCALENDAR
VERSION:2.0
PRODID:-//Liga Nova Lima//Calendario de Partida//PT-BR
CALSCALE:GREGORIAN
METHOD:PUBLISH
BEGIN:VEVENT
UID:partida-4112@liganovalima.inovarsite.com.br
DTSTAMP:20260420T031335Z
DTSTART:20260416T100000
DTEND:20260416T120000
SUMMARY:- Liga Nova Lima
LOCATION:arena mrv
DESCRIPTION:Liga Nova Lima\n\nHorário oficial do evento: 16/04/2026 às 10:00\nLocal: arena mrv\n\nMais detalhes da partida:\nhttps://liganovalima.inovarsite.com.br/partidas/4112/
STATUS:CONFIRMED
TRANSP:OPAQUE
END:VEVENT
END:VCALENDAR